BEGIN:VCALENDAR
VERSION:2.0
PRODID:-//Roger Williams Park Zoo - ECPv6.15.20//NONSGML v1.0//EN
CALSCALE:GREGORIAN
METHOD:PUBLISH
X-WR-CALNAME:Roger Williams Park Zoo
X-ORIGINAL-URL:https://www.rwpzoo.org
X-WR-CALDESC:Events for Roger Williams Park Zoo
REFRESH-INTERVAL;VALUE=DURATION:PT1H
X-Robots-Tag:noindex
X-PUBLISHED-TTL:PT1H
BEGIN:VTIMEZONE
TZID:America/New_York
BEGIN:DAYLIGHT
TZOFFSETFROM:-0500
TZOFFSETTO:-0400
TZNAME:EDT
DTSTART:20250309T070000
END:DAYLIGHT
BEGIN:STANDARD
TZOFFSETFROM:-0400
TZOFFSETTO:-0500
TZNAME:EST
DTSTART:20251102T060000
END:STANDARD
BEGIN:DAYLIGHT
TZOFFSETFROM:-0500
TZOFFSETTO:-0400
TZNAME:EDT
DTSTART:20260308T070000
END:DAYLIGHT
BEGIN:STANDARD
TZOFFSETFROM:-0400
TZOFFSETTO:-0500
TZNAME:EST
DTSTART:20261101T060000
END:STANDARD
BEGIN:DAYLIGHT
TZOFFSETFROM:-0500
TZOFFSETTO:-0400
TZNAME:EDT
DTSTART:20270314T070000
END:DAYLIGHT
BEGIN:STANDARD
TZOFFSETFROM:-0400
TZOFFSETTO:-0500
TZNAME:EST
DTSTART:20271107T060000
END:STANDARD
END:VTIMEZONE
BEGIN:VEVENT
DTSTART;TZID=America/New_York:20260705T080000
DTEND;TZID=America/New_York:20260705T090000
DTSTAMP:20260419T151532
CREATED:20260415T195459Z
LAST-MODIFIED:20260415T200433Z
UID:7666-1783238400-1783242000@www.rwpzoo.org
SUMMARY:A Bug's World Sensory-Friendly Morning Sponsored by ABA Centers
DESCRIPTION:Join us from 8:00 – 9:00 am on Sunday\, July 5 for special sensory-friendly mornings an hour before the bug’s trail opens to the public: designed for those with autism spectrum disorders (ASD) and sensory processing differences and their families. The Zoo will open to the rest of the public at 9 AM; it’s recommended to get there between 8-8:30 to have time to fully enjoy the experience. Be sure to stop by and visit our sponsor ABA Centers of Rhode Island at their table! \nThis immersive exhibit featuring more than 60 larger-than-life bugs\, brings the busy world of backyard insects to life while showing how these tiny creatures play a big role in our environment and how we can help protect them. Music and bug noises will be turned off for this sensory-friendly experience.
URL:https://www.rwpzoo.org/event/a-bugs-world-sensory-friendly-mornings-sponsored-by-aba-centers/
LOCATION:Roger Williams Park Zoo\, 1000 Elmwood Avenue\, Providence\, RI\, 02907\, United States
ATTACH;FMTTYPE=image/jpeg:https://www.rwpzoo.org/wp-content/uploads/2026/04/7Y2A3197-scaled.jpg
END:VEVENT
BEGIN:VEVENT
DTSTART;TZID=America/New_York:20260711T180000
DTEND;TZID=America/New_York:20260711T220000
DTSTAMP:20260419T151532
CREATED:20250507T194903Z
LAST-MODIFIED:20260403T151608Z
UID:6547-1783792800-1783807200@www.rwpzoo.org
SUMMARY:Party with Pride
DESCRIPTION:Embrace your wild side and Party with Pride\, an unforgettable evening celebrating the LGBTQIA+ community! This 21+ event invites queer adults and their allies to experience the Zoo after hours. Get ready for a fantastic lineup of entertainment and drag performances! Full schedule coming soon! \nDiscover fascinating “Nature is Queer” animal chats\, alongside pride-themed animal enrichment activities. Enjoy zoo-themed cocktails at pop-up cash bars scattered throughout the Zoo. Connect with local LGBTQIA+ and allied organizations\, and so much more! \nRWPZ Members Save! Current RWPZ Members Save $3 off each ticket. Please make sure you are logged into your account to receive your discount; it will automatically apply at checkout. 
URL:https://www.rwpzoo.org/event/party-with-pride/
LOCATION:RI
ATTACH;FMTTYPE=image/png:https://www.rwpzoo.org/wp-content/uploads/2025/05/2026-Party-with-Pride-website-header.png
END:VEVENT
BEGIN:VEVENT
DTSTART;TZID=America/New_York:20260829T170000
DTEND;TZID=America/New_York:20260829T200000
DTSTAMP:20260419T151532
CREATED:20230515T155844Z
LAST-MODIFIED:20260325T170404Z
UID:3876-1788022800-1788033600@www.rwpzoo.org
SUMMARY:Brew at the Zoo
DESCRIPTION:Tap into your wild side at Brew at the Zoo on Saturday\, August 29th\, an adults-only evening event\, and sample hundreds of beers\, hard seltzers\, and ready-to-drink cocktails from dozens of local\, regional and national breweries (see list below). Enjoy live musical entertainment\, animal encounters\, and more at Rhode Island’s largest outdoor beer festival. \nThis is a 21+ event\, and no person under the age of 21 will be permitted (including infants). All attendees are required to show a valid ID. Rain or shine\, tickets are non-refundable. See below for important event information. \n 
URL:https://www.rwpzoo.org/event/brew/
LOCATION:Roger Williams Park Zoo\, 1000 Elmwood Avenue\, Providence\, RI\, 02907\, United States
ATTACH;FMTTYPE=image/png:https://www.rwpzoo.org/wp-content/uploads/2023/05/2025-brew-at-the-zoo-banner.png
END:VEVENT
END:VCALENDAR